BEGIN:VCALENDAR
VERSION:2.0
PRODID:-//ChamberMaster//Event Calendar 2.0//EN
METHOD:PUBLISH
X-PUBLISHED-TTL:P3D
REFRESH-INTERVAL:P3D
CALSCALE:GREGORIAN
BEGIN:VEVENT
DTSTART:20210722T000000Z
DTEND:20210722T020000Z
X-MICROSOFT-CDO-ALLDAYEVENT:FALSE
SUMMARY:An Evening With Amos Lee
DESCRIPTION:A special solo evening with Philadelphia-born Amos Lee ("Sweet Pea") knows no musical limits. "Lee has become a preeminent soul influenced singer-songwriter\, adding flourishes of these various genres into a foundation also built on his admiration for John Prine and Joni Mitchell" (NPR).
X-ALT-DESC;FMTTYPE=text/html:<span style="background-color:rgb(255\, 255\, 255)\; color:rgb(61\, 62\, 80)\; font-family:gotham ssm a\,gotham ssm b\; font-size:18px">A special solo evening with Philadelphia-born Amos Lee (&ldquo\;Sweet Pea&rdquo\;) knows no musical limits. &ldquo\;Lee has become a preeminent soul influenced singer-songwriter\, adding flourishes of these various genres into a foundation also built on his admiration for John Prine and Joni Mitchell&rdquo\; (NPR).</span>
LOCATION:1551 Trap Rd Vienna\, VA 22182
UID:e.9578.6644
SEQUENCE:3
DTSTAMP:20260424T054107Z
URL:https://www.greatermerrifield.org/events/details/an-evening-with-amos-lee-6644
END:VEVENT

END:VCALENDAR
