BEGIN:VCALENDAR
VERSION:2.0
PRODID:-//ChamberMaster//Event Calendar 2.0//EN
METHOD:PUBLISH
X-PUBLISHED-TTL:P3D
REFRESH-INTERVAL:P3D
CALSCALE:GREGORIAN
BEGIN:VEVENT
DTSTART:20220625T143000Z
DTEND:20220625T153000Z
X-MICROSOFT-CDO-ALLDAYEVENT:FALSE
SUMMARY:Wolf Trap: Madcap Puppets – Jack and the Gentle Giant
DESCRIPTION:Jack is back in this sequel to the famous fairy tale! Jack's son\, Leo\, doesn't want to be a giant conqueror. He'd rather tell giant stories with his friend Tulip\, the castle fairy. In this surprise-packed performance\, audiences enter a world of towering tales where each giant is bigger than the last!
X-ALT-DESC;FMTTYPE=text/html:Jack is back in this sequel to the famous fairy tale! Jack&#39\;s son\, Leo\, doesn&#39\;t want to be a giant conqueror. He&#39\;d rather tell giant stories with his friend Tulip\, the castle fairy.&nbsp\;In this surprise-packed performance\, audiences enter a world of towering tales where each giant is bigger than the last!
LOCATION:Children's Theatre-in-the-Woods 1551 Trap Road Vienna\, VA 22182
UID:e.9578.8822
SEQUENCE:3
DTSTAMP:20260421T190443Z
URL:https://www.greatermerrifield.org/events/details/madcap-puppets-jack-and-the-gentle-giant-06-25-2022-8822
END:VEVENT

END:VCALENDAR
